BEGIN:VCALENDAR
VERSION:2.0
PRODID:Events Booking
BEGIN:VEVENT
UID:69e5ec63255a7
SUMMARY:Open Nederlandse Slagwerk Kampioenschappen
DESCRIPTION:Op zaterdag 18 april neemt onze slagwerkgroep deel aan de Open 
 Nederlandse Slagwerk Kampioenschappen (ONSK) te Zutphen. (Nadere info volg
 lt.)
DTSTART:20260417T220000Z
DTEND:20260417T220000Z
DTSTAMP:20260120T185239Z
ORGANIZER;CN=Muziekvereniging Someren-Heide:MAILTO:info@muziekverenigingsom
 erenheide.nl
END:VEVENT
END:VCALENDAR